BEGIN:VCALENDAR
VERSION:2.0
PRODID:SchoolNow
CALSCALE:GREGORIAN
BEGIN:VEVENT
UID:c3f43852-7274-11ed-ac13-0aa216ca887d
DTSTAMP:20221202T190854Z
SUMMARY:Senior yearbook portraits (appointment required)
URL;VALUE=URI:https://www.albanyschools.org/schools/albanyhigh/calendar/363
 2977/senior-yearbook-portraits-appointment-required
DTSTART:20221212T190600Z
DTEND:20221215T200600Z
END:VEVENT
END:VCALENDAR
