BEGIN:VCALENDAR
VERSION:2.0
PRODID:SchoolNow
CALSCALE:GREGORIAN
BEGIN:VEVENT
UID:5eb8471c-74c7-11ed-bab4-0e53b7268cc5
DTSTAMP:20221205T180515Z
SUMMARY:Curriculum Fair
URL;VALUE=URI:https://www.albanyschools.org/schools/albanyhigh/calendar/363
 5084/curriculum-fair
DTSTART:20221205T220000Z
DTEND:20221205T230000Z
END:VEVENT
END:VCALENDAR
