BEGIN:VCALENDAR
VERSION:2.0
PRODID:SchoolNow
CALSCALE:GREGORIAN
BEGIN:VEVENT
UID:a2e325f0-75ae-11ed-aafb-0edc333beae7
DTSTAMP:20231211T214151Z
SUMMARY:Holiday Spa Day
LOCATION:Salon classroom\, Albany High School
URL;VALUE=URI:https://www.albanyschools.org/schools/albanyhigh/calendar/363
 6493/holiday-spa-day
DTSTART:20231216T150000Z
DTEND:20231216T180000Z
END:VEVENT
END:VCALENDAR
