BEGIN:VCALENDAR
VERSION:2.0
PRODID:SchoolNow
CALSCALE:GREGORIAN
BEGIN:VEVENT
UID:8c506eae-821c-11ed-a652-02e883cf4235
DTSTAMP:20221222T171744Z
SUMMARY:Last chance senior portraits
URL;VALUE=URI:https://www.albanyschools.org/schools/albanyhigh/calendar/365
 0296/last-chance-senior-portraits
DTSTART;VALUE=DATE:20230109
DTEND;VALUE=DATE:20230113
END:VEVENT
END:VCALENDAR
