BEGIN:VCALENDAR
VERSION:2.0
PRODID:SchoolNow
CALSCALE:GREGORIAN
BEGIN:VEVENT
UID:c1168a74-981f-11ed-a25f-0e98bb8670cd
DTSTAMP:20230119T173606Z
SUMMARY:Ziti dinner fundraiser pickup
URL;VALUE=URI:https://www.albanyschools.org/schools/albanyhigh/calendar/367
 4435/ziti-dinner-fundraiser-pickup
DTSTART:20230131T203000Z
DTEND:20230131T223000Z
END:VEVENT
END:VCALENDAR
