BEGIN:VCALENDAR
VERSION:2.0
PRODID:SchoolNow
CALSCALE:GREGORIAN
BEGIN:VEVENT
UID:b529822e-3e53-11f1-b22e-0a58a9feac02
DTSTAMP:20260424T195532Z
SUMMARY:Inkblot Poetry Slam
LOCATION:Albany High Library
URL;VALUE=URI:https://www.albanyschools.org/schools/albanyhigh/calendar/901
 1179/inkblot-poetry-slam
DTSTART:20260427T073000Z
DTEND:20260427T210000Z
END:VEVENT
END:VCALENDAR
