BEGIN:VCALENDAR
VERSION:2.0
PRODID:SchoolNow
CALSCALE:GREGORIAN
BEGIN:VEVENT
UID:369ffb00-4014-11f1-a9ba-0a58a9feac02
DTSTAMP:20260424T193149Z
SUMMARY:Senior Spirit Week: April 27 - May 1
URL;VALUE=URI:https://www.albanyschools.org/schools/albanyhigh/calendar/901
 7149/senior-spirit-week-april-27-may-1
DTSTART;VALUE=DATE:20260427
DTEND;VALUE=DATE:20260502
END:VEVENT
END:VCALENDAR
