BEGIN:VCALENDAR
VERSION:2.0
PRODID:SchoolNow
CALSCALE:GREGORIAN
BEGIN:VEVENT
UID:d7879234-3b1b-11eb-89df-12ca33e08653
DTSTAMP:20201210T191353Z
SUMMARY:Snack & Paint Club
URL;VALUE=URI:https://www.albanyschools.org/schools/ash/calendar/2511087/sn
 ack-paint-club
DTSTART:20210507T220000Z
DTEND:20210507T230000Z
END:VEVENT
END:VCALENDAR
