BEGIN:VCALENDAR
VERSION:2.0
PRODID:SchoolNow
CALSCALE:GREGORIAN
BEGIN:VEVENT
UID:e9006716-3b1b-11eb-a00a-12933dfbece3
DTSTAMP:20201210T191422Z
SUMMARY:Snack & Paint Club
URL;VALUE=URI:https://www.albanyschools.org/schools/ash/calendar/2511088/sn
 ack-paint-club
DTSTART:20210604T220000Z
DTEND:20210604T230000Z
END:VEVENT
END:VCALENDAR
