BEGIN:VCALENDAR
VERSION:2.0
PRODID:SchoolNow
CALSCALE:GREGORIAN
BEGIN:VEVENT
UID:cb63d4e4-3b1c-11eb-add9-12dd2b029d37
DTSTAMP:20210126T182249Z
SUMMARY:PTA meeting
URL;VALUE=URI:https://www.albanyschools.org/schools/ash/calendar/2511092/pt
 a-meeting
DTSTART:20210511T230000Z
DTEND:20210512T000000Z
END:VEVENT
END:VCALENDAR
