BEGIN:VCALENDAR
VERSION:2.0
PRODID:SchoolNow
CALSCALE:GREGORIAN
BEGIN:VEVENT
UID:d91e524e-3b1c-11eb-8ce7-12f498f377ef
DTSTAMP:20210126T182320Z
SUMMARY:PTA meeting
URL;VALUE=URI:https://www.albanyschools.org/schools/ash/calendar/2511093/pt
 a-meeting
DTSTART:20210608T230000Z
DTEND:20210609T000000Z
END:VEVENT
END:VCALENDAR
