BEGIN:VCALENDAR
VERSION:2.0
PRODID:SchoolNow
CALSCALE:GREGORIAN
BEGIN:VEVENT
UID:30de88ee-8cb4-11eb-bdf5-0a59a6107091
DTSTAMP:20210325T155358Z
SUMMARY:Virtual STEAM Night
URL;VALUE=URI:https://www.albanyschools.org/schools/ash/calendar/2561466/vi
 rtual-steam-night
DTSTART:20210513T220000Z
DTEND:20210513T233000Z
END:VEVENT
END:VCALENDAR
