BEGIN:VCALENDAR
VERSION:2.0
PRODID:SchoolNow
CALSCALE:GREGORIAN
BEGIN:VEVENT
UID:f2d53f9c-9867-11eb-8d1b-0a50ccea9a7f
DTSTAMP:20210408T145918Z
SUMMARY:New York State math test\, grades 3-5
URL;VALUE=URI:https://www.albanyschools.org/schools/ash/calendar/2568648/ne
 w-york-state-math-tests-grades-3-5
DTSTART;VALUE=DATE:20210505
DTEND;VALUE=DATE:20210506
END:VEVENT
END:VCALENDAR
