BEGIN:VCALENDAR
VERSION:2.0
PRODID:SchoolNow
CALSCALE:GREGORIAN
BEGIN:VEVENT
UID:b5fe9ed2-987c-11eb-b2dc-0ebc46c6de53
DTSTAMP:20210408T151136Z
SUMMARY:New York State science test\, grade 4
URL;VALUE=URI:https://www.albanyschools.org/schools/ash/calendar/2568701/ne
 w-york-state-science-exam-grade-4
DTSTART;VALUE=DATE:20210608
DTEND;VALUE=DATE:20210609
END:VEVENT
END:VCALENDAR
