BEGIN:VCALENDAR
VERSION:2.0
PRODID:SchoolNow
CALSCALE:GREGORIAN
BEGIN:VEVENT
UID:51c7553a-a83a-11eb-b43b-0e042c20d971
DTSTAMP:20210428T160317Z
SUMMARY:Info session: Anxiety and depression in students
URL;VALUE=URI:https://www.albanyschools.org/schools/ash/calendar/2588470/in
 fo-session-anxiety-and-depression-in-students
DTSTART:20210504T220000Z
DTEND:20210504T233000Z
END:VEVENT
END:VCALENDAR
