BEGIN:VCALENDAR
VERSION:2.0
PRODID:SchoolNow
CALSCALE:GREGORIAN
BEGIN:VEVENT
UID:116fe3fc-c2ee-11eb-a12d-021240c676b1
DTSTAMP:20210601T152851Z
SUMMARY:Field Day
URL;VALUE=URI:https://www.albanyschools.org/schools/ash/calendar/2608749/fi
 eld-day
DTSTART:20210618T152800Z
DTEND:20210618T162800Z
END:VEVENT
END:VCALENDAR
