BEGIN:VCALENDAR
VERSION:2.0
PRODID:SchoolNow
CALSCALE:GREGORIAN
BEGIN:VEVENT
UID:444981b6-c2ee-11eb-a25e-0a75e2af6d59
DTSTAMP:20210601T153016Z
SUMMARY:Prekindergarten Moving Up
URL;VALUE=URI:https://www.albanyschools.org/schools/ash/calendar/2608752/pr
 ekindergarten-moving-up
DTSTART:20210621T143000Z
DTEND:20210621T153000Z
END:VEVENT
END:VCALENDAR
