BEGIN:VCALENDAR
VERSION:2.0
PRODID:SchoolNow
CALSCALE:GREGORIAN
BEGIN:VEVENT
UID:67aad678-c2ee-11eb-9e94-021240c676b1
DTSTAMP:20210601T153116Z
SUMMARY:Kindergarten moving up
URL;VALUE=URI:https://www.albanyschools.org/schools/ash/calendar/2608754/ki
 ndergarten-moving-up
DTSTART:20210621T130000Z
DTEND:20210621T140000Z
END:VEVENT
END:VCALENDAR
