BEGIN:VCALENDAR
VERSION:2.0
PRODID:SchoolNow
CALSCALE:GREGORIAN
BEGIN:VEVENT
UID:bdbe41b2-c2ee-11eb-ab53-021240c676b1
DTSTAMP:20210601T153340Z
SUMMARY:Grade 5 moving up
URL;VALUE=URI:https://www.albanyschools.org/schools/ash/calendar/2608755/gr
 ade-5-moving-up
DTSTART:20210623T153100Z
DTEND:20210623T163100Z
END:VEVENT
END:VCALENDAR
