BEGIN:VCALENDAR
VERSION:2.0
PRODID:SchoolNow
CALSCALE:GREGORIAN
BEGIN:VEVENT
UID:099ae9f0-c2ef-11eb-b321-02ca9110c9a3
DTSTAMP:20210601T153618Z
SUMMARY:Grade 6 moving up
URL;VALUE=URI:https://www.albanyschools.org/schools/ash/calendar/2608757/gr
 ade-6-moving-up
DTSTART:20210622T153300Z
DTEND:20210622T163300Z
END:VEVENT
END:VCALENDAR
