BEGIN:VCALENDAR
VERSION:2.0
PRODID:SchoolNow
CALSCALE:GREGORIAN
BEGIN:VEVENT
UID:840f2cdc-0a75-11ec-83c7-0238a1c2c4f3
DTSTAMP:20210831T160814Z
SUMMARY:First Day of School (orientation)
URL;VALUE=URI:https://www.albanyschools.org/schools/ash/calendar/2696599/fi
 rst-day-of-school-orientation
DTSTART:20210902T120000Z
DTEND:20210902T183000Z
END:VEVENT
END:VCALENDAR
