BEGIN:VCALENDAR
VERSION:2.0
PRODID:SchoolNow
CALSCALE:GREGORIAN
BEGIN:VEVENT
UID:a18d8380-0a75-11ec-9617-0e51496e09bb
DTSTAMP:20210831T160807Z
SUMMARY:First Day of School (orientation)
URL;VALUE=URI:https://www.albanyschools.org/schools/ash/calendar/2696601/fi
 rst-day-of-school-orientation
DTSTART:20210903T120000Z
DTEND:20210903T183000Z
END:VEVENT
END:VCALENDAR
