BEGIN:VCALENDAR
VERSION:2.0
PRODID:SchoolNow
CALSCALE:GREGORIAN
BEGIN:VEVENT
UID:9d9bb748-1ca3-11ec-adc1-02b69a66b19d
DTSTAMP:20210929T142228Z
SUMMARY:Open House
URL;VALUE=URI:https://www.albanyschools.org/schools/ash/calendar/2759607/op
 en-house
DTSTART:20210929T220000Z
DTEND:20210929T230000Z
END:VEVENT
END:VCALENDAR
