BEGIN:VCALENDAR
VERSION:2.0
PRODID:SchoolNow
CALSCALE:GREGORIAN
BEGIN:VEVENT
UID:44a695c2-7a36-11ec-b98c-0a2b4a1ca61f
DTSTAMP:20220310T224501Z
SUMMARY:ASH Magnet Open House
URL;VALUE=URI:https://www.albanyschools.org/schools/ash/calendar/3078941/as
 h-magnet-open-house
DTSTART:20220310T230000Z
DTEND:20220311T003000Z
END:VEVENT
END:VCALENDAR
