BEGIN:VCALENDAR
VERSION:2.0
PRODID:SchoolNow
CALSCALE:GREGORIAN
BEGIN:VEVENT
UID:28a9040e-b5af-11ec-8618-0a95b268d665
DTSTAMP:20220406T134044Z
SUMMARY:Spring Concert
URL;VALUE=URI:https://www.albanyschools.org/schools/ash/calendar/3154970/sp
 ring-concert
DTSTART:20220609T223000Z
DTEND:20220609T233000Z
END:VEVENT
END:VCALENDAR
