BEGIN:VCALENDAR
VERSION:2.0
PRODID:SchoolNow
CALSCALE:GREGORIAN
BEGIN:VEVENT
UID:441c8378-db84-11ec-ae94-0e033e9c1dff
DTSTAMP:20220524T170926Z
SUMMARY:Prekindergarten reverse parade
URL;VALUE=URI:https://www.albanyschools.org/schools/ash/calendar/3204952/pr
 ekindergarten-reverse-parade
DTSTART:20220622T170000Z
DTEND:20220622T180000Z
END:VEVENT
END:VCALENDAR
