BEGIN:VCALENDAR
VERSION:2.0
PRODID:SchoolNow
CALSCALE:GREGORIAN
BEGIN:VEVENT
UID:5803bd7a-db84-11ec-8233-0274ecda883d
DTSTAMP:20220524T171000Z
SUMMARY:Kindergarten reverse parade
URL;VALUE=URI:https://www.albanyschools.org/schools/ash/calendar/3204953/ki
 ndergarten-reverse-parade
DTSTART:20220622T130000Z
DTEND:20220622T140000Z
END:VEVENT
END:VCALENDAR
