BEGIN:VCALENDAR
VERSION:2.0
PRODID:SchoolNow
CALSCALE:GREGORIAN
BEGIN:VEVENT
UID:67d3c4ac-db84-11ec-bbea-0a750e130247
DTSTAMP:20220524T171026Z
SUMMARY:Grade 5 Moving Up Ceremony
URL;VALUE=URI:https://www.albanyschools.org/schools/ash/calendar/3204954/gr
 ade-5-moving-up-ceremony
DTSTART:20220623T130000Z
DTEND:20220623T140000Z
END:VEVENT
END:VCALENDAR
