BEGIN:VCALENDAR
VERSION:2.0
PRODID:SchoolNow
CALSCALE:GREGORIAN
BEGIN:VEVENT
UID:14768e44-1427-11ed-9a74-0a00004c2ceb
DTSTAMP:20220804T185559Z
SUMMARY:New Family Information Night
URL;VALUE=URI:https://www.albanyschools.org/schools/ash/calendar/3271570/ne
 w-family-information-night
DTSTART:20220830T220000Z
DTEND:20220830T230000Z
END:VEVENT
END:VCALENDAR
