BEGIN:VCALENDAR
VERSION:2.0
PRODID:SchoolNow
CALSCALE:GREGORIAN
BEGIN:VEVENT
UID:a27e0f5a-1427-11ed-b23c-02834cac3bed
DTSTAMP:20220804T185958Z
SUMMARY:Meet the Teacher Night/Ice Cream Social
URL;VALUE=URI:https://www.albanyschools.org/schools/ash/calendar/3271575/me
 et-the-teacher-night-ice-cream-social
DTSTART:20220922T220000Z
DTEND:20220922T230000Z
END:VEVENT
END:VCALENDAR
