BEGIN:VCALENDAR
VERSION:2.0
PRODID:SchoolNow
CALSCALE:GREGORIAN
BEGIN:VEVENT
UID:2aba5ab0-17fa-11ed-8b00-02d025cb5fd7
DTSTAMP:20220809T154448Z
SUMMARY:First days of school: ASH
DESCRIPTION:View event details for a look at which grades attend which day 
 on Thursday 9/1 and Friday 9/2.
URL;VALUE=URI:https://www.albanyschools.org/schools/ash/calendar/3274726/fi
 rst-days-of-school-ash
DTSTART;VALUE=DATE:20220901
DTEND;VALUE=DATE:20220903
END:VEVENT
END:VCALENDAR
