BEGIN:VCALENDAR
VERSION:2.0
PRODID:SchoolNow
CALSCALE:GREGORIAN
BEGIN:VEVENT
UID:8bbc6638-32c5-11ed-b536-0ee11bb6a525
DTSTAMP:20220912T180555Z
SUMMARY:PTA meeting
URL;VALUE=URI:https://www.albanyschools.org/schools/ash/calendar/3380337/pt
 a-meeting
DTSTART:20220913T230000Z
DTEND:20220914T000000Z
END:VEVENT
END:VCALENDAR
