BEGIN:VCALENDAR
VERSION:2.0
PRODID:SchoolNow
CALSCALE:GREGORIAN
BEGIN:VEVENT
UID:cc6423de-4994-11ed-85fe-0ef5a7f5f355
DTSTAMP:20221011T184455Z
SUMMARY:Picture Day
URL;VALUE=URI:https://www.albanyschools.org/schools/ash/calendar/3509146/pi
 cture-day
DTSTART:20221018T184400Z
DTEND:20221018T194400Z
END:VEVENT
END:VCALENDAR
