BEGIN:VCALENDAR
VERSION:2.0
PRODID:SchoolNow
CALSCALE:GREGORIAN
BEGIN:VEVENT
UID:e5976c26-4994-11ed-a3b8-0a7d411b1d5f
DTSTAMP:20221011T184537Z
SUMMARY:Harvest Fest
URL;VALUE=URI:https://www.albanyschools.org/schools/ash/calendar/3509147/ha
 rvest-fest
DTSTART:20221104T213000Z
DTEND:20221104T233000Z
END:VEVENT
END:VCALENDAR
