BEGIN:VCALENDAR
VERSION:2.0
PRODID:SchoolNow
CALSCALE:GREGORIAN
BEGIN:VEVENT
UID:fbcd7530-4994-11ed-8732-0ab843c6d587
DTSTAMP:20221011T184614Z
SUMMARY:Lantern Parade
URL;VALUE=URI:https://www.albanyschools.org/schools/ash/calendar/3509148/la
 ntern-parade
DTSTART:20221106T213000Z
DTEND:20221106T223000Z
END:VEVENT
END:VCALENDAR
