BEGIN:VCALENDAR
VERSION:2.0
PRODID:SchoolNow
CALSCALE:GREGORIAN
BEGIN:VEVENT
UID:0bbb7820-4995-11ed-aa14-0ab843c6d587
DTSTAMP:20221011T184641Z
SUMMARY:PTA Meeting
URL;VALUE=URI:https://www.albanyschools.org/schools/ash/calendar/3509149/pt
 a-meeting
DTSTART:20221109T000000Z
DTEND:20221109T010000Z
END:VEVENT
END:VCALENDAR
