BEGIN:VCALENDAR
VERSION:2.0
PRODID:SchoolNow
CALSCALE:GREGORIAN
BEGIN:VEVENT
UID:bfa720da-4fd2-11ed-bd26-0eaf4d74acef
DTSTAMP:20221019T172329Z
SUMMARY:Winter concert
URL;VALUE=URI:https://www.albanyschools.org/schools/ash/calendar/3540697/wi
 nter-concert
DTSTART:20221208T230000Z
DTEND:20221209T000000Z
END:VEVENT
END:VCALENDAR
