BEGIN:VCALENDAR
VERSION:2.0
PRODID:SchoolNow
CALSCALE:GREGORIAN
BEGIN:VEVENT
UID:10c0abf8-9673-11ed-bf49-0e369c8764e9
DTSTAMP:20230117T142737Z
SUMMARY:Magnet Open House: ASH
URL;VALUE=URI:https://www.albanyschools.org/schools/ash/calendar/3669020/ma
 gnet-open-house-ash
DTSTART:20230207T230000Z
DTEND:20230208T000000Z
END:VEVENT
END:VCALENDAR
