BEGIN:VCALENDAR
VERSION:2.0
PRODID:SchoolNow
CALSCALE:GREGORIAN
BEGIN:VEVENT
UID:1dfdfb8e-fd9d-11ea-8b02-12f653073de3
DTSTAMP:20200930T202444Z
SUMMARY:No school: Memorial Day
URL;VALUE=URI:https://www.albanyschools.org/schools/calendar/2379224/no-sch
 ool-memorial-day
DTSTART;VALUE=DATE:20210531
DTEND;VALUE=DATE:20210601
END:VEVENT
END:VCALENDAR
