BEGIN:VCALENDAR
VERSION:2.0
PRODID:SchoolNow
CALSCALE:GREGORIAN
BEGIN:VEVENT
UID:31f8a9c2-fd9d-11ea-ab14-12f653073de3
DTSTAMP:20200923T130337Z
SUMMARY:No school: Spring Recess
URL;VALUE=URI:https://www.albanyschools.org/schools/calendar/2379226/no-sch
 ool-spring-recess
DTSTART;VALUE=DATE:20210405
DTEND;VALUE=DATE:20210410
END:VEVENT
END:VCALENDAR
