BEGIN:VCALENDAR
VERSION:2.0
PRODID:SchoolNow
CALSCALE:GREGORIAN
BEGIN:VEVENT
UID:45b81ee8-fd9d-11ea-8b70-12f653073de3
DTSTAMP:20200923T130410Z
SUMMARY:No school: Superintendent's Conference Day
URL;VALUE=URI:https://www.albanyschools.org/schools/calendar/2379227/no-sch
 ool-superintendents-conference-day
DTSTART;VALUE=DATE:20210315
DTEND;VALUE=DATE:20210316
END:VEVENT
END:VCALENDAR
