BEGIN:VCALENDAR
VERSION:2.0
PRODID:SchoolNow
CALSCALE:GREGORIAN
BEGIN:VEVENT
UID:50eeb5ba-fd9d-11ea-8b7c-12f653073de3
DTSTAMP:20200923T130429Z
SUMMARY:No school: Winter Recess
URL;VALUE=URI:https://www.albanyschools.org/schools/calendar/2379228/no-sch
 ool-winter-recess
DTSTART;VALUE=DATE:20210215
DTEND;VALUE=DATE:20210220
END:VEVENT
END:VCALENDAR
