BEGIN:VCALENDAR
VERSION:2.0
PRODID:SchoolNow
CALSCALE:GREGORIAN
BEGIN:VEVENT
UID:67d850ca-efc7-11eb-a1cd-0eb4964f54db
DTSTAMP:20210819T152956Z
SUMMARY:NO SCHOOL: Veterans Day
URL;VALUE=URI:https://www.albanyschools.org/schools/calendar/2649576/vetera
 ns-day-no-school
DTSTART;VALUE=DATE:20211111
DTEND;VALUE=DATE:20211112
END:VEVENT
END:VCALENDAR
