BEGIN:VCALENDAR
VERSION:2.0
PRODID:SchoolNow
CALSCALE:GREGORIAN
BEGIN:VEVENT
UID:954d6e90-efc8-11eb-8949-0ee70566db41
DTSTAMP:20210819T153002Z
SUMMARY:NO SCHOOL: Parent-Teacher Conferences
URL;VALUE=URI:https://www.albanyschools.org/schools/calendar/2649578/no-sch
 ool-for-students-parent-teacher-conferences
DTSTART;VALUE=DATE:20211124
DTEND;VALUE=DATE:20211125
END:VEVENT
END:VCALENDAR
