BEGIN:VCALENDAR
VERSION:2.0
PRODID:SchoolNow
CALSCALE:GREGORIAN
BEGIN:VEVENT
UID:1e1614ac-efc9-11eb-b5f4-0a8619b835f7
DTSTAMP:20210819T152929Z
SUMMARY:NO SCHOOL: Labor Day
URL;VALUE=URI:https://www.albanyschools.org/schools/calendar/2649581/labor-
 day-no-school
DTSTART;VALUE=DATE:20210906
DTEND;VALUE=DATE:20210907
END:VEVENT
END:VCALENDAR
