BEGIN:VCALENDAR
VERSION:2.0
PRODID:SchoolNow
CALSCALE:GREGORIAN
BEGIN:VEVENT
UID:3f580418-efc9-11eb-b275-0a85b45a60b5
DTSTAMP:20210819T152939Z
SUMMARY:NO SCHOOL: Rosh Hashana
URL;VALUE=URI:https://www.albanyschools.org/schools/calendar/2649582/labor-
 day-no-school-clone
DTSTART;VALUE=DATE:20210907
DTEND;VALUE=DATE:20210908
END:VEVENT
END:VCALENDAR
