BEGIN:VCALENDAR
VERSION:2.0
PRODID:SchoolNow
CALSCALE:GREGORIAN
BEGIN:VEVENT
UID:534b3062-efc9-11eb-820d-0ee70566db41
DTSTAMP:20210819T152945Z
SUMMARY:NO SCHOOL: Yom Kippur
URL;VALUE=URI:https://www.albanyschools.org/schools/calendar/2649583/yom-ki
 ppur-no-school
DTSTART;VALUE=DATE:20210916
DTEND;VALUE=DATE:20210917
END:VEVENT
END:VCALENDAR
