BEGIN:VCALENDAR
VERSION:2.0
PRODID:SchoolNow
CALSCALE:GREGORIAN
BEGIN:VEVENT
UID:64f59a50-efc9-11eb-9b88-0a85b45a60b5
DTSTAMP:20210819T152951Z
SUMMARY:NO SCHOOL: Columbus/Indigenous Peoples' Day
URL;VALUE=URI:https://www.albanyschools.org/schools/calendar/2649584/columb
 us-indigenous-peoples-day-no-school
DTSTART;VALUE=DATE:20211011
DTEND;VALUE=DATE:20211012
END:VEVENT
END:VCALENDAR
