BEGIN:VCALENDAR
VERSION:2.0
PRODID:SchoolNow
CALSCALE:GREGORIAN
BEGIN:VEVENT
UID:aaaefa82-efc9-11eb-af3d-0a60d6651087
DTSTAMP:20210819T153020Z
SUMMARY:NO SCHOOL: Holiday Recess
URL;VALUE=URI:https://www.albanyschools.org/schools/calendar/2649586/no-sch
 ool-holiday-recess
DTSTART;VALUE=DATE:20211223
DTEND;VALUE=DATE:20220101
END:VEVENT
END:VCALENDAR
