BEGIN:VCALENDAR
VERSION:2.0
PRODID:SchoolNow
CALSCALE:GREGORIAN
BEGIN:VEVENT
UID:10554710-efca-11eb-b883-0ef7a93f529d
DTSTAMP:20210819T153025Z
SUMMARY:NO SCHOOL: Martin Luther King Jr. Day
URL;VALUE=URI:https://www.albanyschools.org/schools/calendar/2649590/no-sch
 ool-martin-luther-king-jr-day
DTSTART;VALUE=DATE:20220117
DTEND;VALUE=DATE:20220118
END:VEVENT
END:VCALENDAR
